BEGIN:VCALENDAR
VERSION:2.0
PRODID:-//https://calenda-formation.labocleo.org
X-WR-CALNAME:Calenda
X-WR-TIMEZONE:Europe/Paris
CALSCALE:GREGORIAN
X-WR-CALDESC:The calendar for arts, humanities and social sciences
METHOD:PUBLISH
BEGIN:VEVENT
DTSTART;VALUE=DATE:20081017
DTEND;VALUE=DATE:20081018
UID:195588-20081017@calenda.revues.org
SUMMARY:L'islam en Syrie. Analyses et témoignages
URL:https://calenda-formation.labocleo.org/195588
DESCRIPTION:Le fait religieux musulman demeure l’une des – nombreuses – dimensions méconnues de la société syrienne. Afin d'aborder cette question sous un angle nouveau\, nous nous proposons de réunir sept intervenants\, dont cinq chercheurs et deux acteurs de l’i… @plus_info https://calenda-formation.labocleo.org/195588
LOCATION:Louvain-la-Neuve
END:VEVENT
END:VCALENDAR
