BEGIN:VCALENDAR
VERSION:2.0
PRODID:-//https://calenda-formation.labocleo.org
X-WR-CALNAME:Calenda
X-WR-TIMEZONE:Europe/Paris
CALSCALE:GREGORIAN
X-WR-CALDESC:Le calendrier des lettres et sciences humaines et sociales
METHOD:PUBLISH
BEGIN:VEVENT
DTSTART;VALUE=DATE:20081027
DTEND;VALUE=DATE:20081028
UID:195650-20081027@calenda.revues.org
SUMMARY:Les mondes universitaires face aux logiques du marché : circulation des savoirs et pratiques des acteurs
URL:https://calenda-formation.labocleo.org/195650
DESCRIPTION:Le réseau Acteurs émergents organise un colloque à Casablanca les 18 et 19 juin 2009 : « Les mondes universitaires face aux logiques du marché : circulation des savoirs et pratiques des acteurs ». L’objectif de ce colloque est d’analyser les effets d… Más informaciones https://calenda-formation.labocleo.org/195650
LOCATION:Casablanca
END:VEVENT
END:VCALENDAR
