BEGIN:VCALENDAR
VERSION:2.0
PRODID:-//https://calenda-formation.labocleo.org
X-WR-CALNAME:Calenda
X-WR-TIMEZONE:Europe/Paris
CALSCALE:GREGORIAN
X-WR-CALDESC:The calendar for arts, humanities and social sciences
METHOD:PUBLISH
BEGIN:VEVENT
DTSTART;VALUE=DATE:20081015
DTEND;VALUE=DATE:20081016
UID:195681-20081015@calenda.revues.org
SUMMARY:Salon Creative Commons
URL:https://calenda-formation.labocleo.org/195681
DESCRIPTION:À l'heure où le droit d'auteur fait l'objet de législations toujours plus répressives\, où le nécessaire équilibre de la propriété intellectuelle\, entre légitime protection et indispensable ouverture\, est menacé\, cette soirée sera l'occasion pour la c… @plus_info https://calenda-formation.labocleo.org/195681
LOCATION:Paris
END:VEVENT
END:VCALENDAR
