BEGIN:VCALENDAR
VERSION:2.0
PRODID:-//https://calenda-formation.labocleo.org
X-WR-CALNAME:Calenda
X-WR-TIMEZONE:Europe/Paris
CALSCALE:GREGORIAN
X-WR-CALDESC:Le calendrier des lettres et sciences humaines et sociales
METHOD:PUBLISH
BEGIN:VEVENT
DTSTART;VALUE=DATE:20081212
DTEND;VALUE=DATE:20081213
UID:195724-20081212@calenda.revues.org
SUMMARY:L’architecture en objets : les dépôts lapidaires de la France du Nord 
URL:https://calenda-formation.labocleo.org/195724
DESCRIPTION:Cette journée d'études a pour but de faire connaître et de confronter les résultats de diverses recherches consacrées aux dépôts lapidaires de la France du Nord\, délimitation géographique entendue au sens large du terme. L’inventaire et l’étude des d… Más informaciones https://calenda-formation.labocleo.org/195724
LOCATION:París
END:VEVENT
END:VCALENDAR
