BEGIN:VCALENDAR
VERSION:2.0
PRODID:-//https://calenda-formation.labocleo.org
X-WR-CALNAME:Calenda
X-WR-TIMEZONE:Europe/Paris
CALSCALE:GREGORIAN
X-WR-CALDESC:Le calendrier des lettres et sciences humaines et sociales
METHOD:PUBLISH
BEGIN:VEVENT
DTSTART;VALUE=DATE:20081231
DTEND;VALUE=DATE:20090101
UID:195754-20081231@calenda.revues.org
SUMMARY:Insularité et développement durable
URL:https://calenda-formation.labocleo.org/195754
DESCRIPTION:À l’heure où le concept de développement durable est désormais ancré dans de multiples sphères (scientifique\, économique\, politique…)\, le colloque se propose de questionner les spécificités du développement durable des petits espaces insulaires. De l… @plus_info https://calenda-formation.labocleo.org/195754
LOCATION:Saint-Denis
END:VEVENT
END:VCALENDAR
