BEGIN:VCALENDAR
VERSION:2.0
PRODID:-//https://calenda-formation.labocleo.org
X-WR-CALNAME:Calenda
X-WR-TIMEZONE:Europe/Paris
CALSCALE:GREGORIAN
X-WR-CALDESC:The calendar for arts, humanities and social sciences
METHOD:PUBLISH
BEGIN:VEVENT
DTSTART;VALUE=DATE:20081106
DTEND;VALUE=DATE:20081107
UID:195841-20081106@calenda.revues.org
SUMMARY:Musique et industrie
URL:https://calenda-formation.labocleo.org/195841
DESCRIPTION:Les 6 et 20 novembre\, deux rencontres auront lieu dans le cadre de l’exposition « D’une révolution à l’autre » de l’artiste britannique Jeremy Deller  au Palais de Tokyo (Paris) : la première accueillera Simon Frith\, pionnier de la sociologie des mus… @plus_info https://calenda-formation.labocleo.org/195841
LOCATION:Paris
END:VEVENT
BEGIN:VEVENT
DTSTART;VALUE=DATE:20081120
DTEND;VALUE=DATE:20081121
UID:195841-20081120@calenda.revues.org
SUMMARY:Musique et industrie
URL:https://calenda-formation.labocleo.org/195841
DESCRIPTION:Les 6 et 20 novembre\, deux rencontres auront lieu dans le cadre de l’exposition « D’une révolution à l’autre » de l’artiste britannique Jeremy Deller  au Palais de Tokyo (Paris) : la première accueillera Simon Frith\, pionnier de la sociologie des mus… @plus_info https://calenda-formation.labocleo.org/195841
LOCATION:Paris
END:VEVENT
END:VCALENDAR
