BEGIN:VCALENDAR
VERSION:2.0
PRODID:-//https://calenda-formation.labocleo.org
X-WR-CALNAME:Calenda
X-WR-TIMEZONE:Europe/Paris
CALSCALE:GREGORIAN
X-WR-CALDESC:The calendar for arts, humanities and social sciences
METHOD:PUBLISH
BEGIN:VEVENT
DTSTART;VALUE=DATE:20081114
DTEND;VALUE=DATE:20081115
UID:195842-20081114@calenda.revues.org
SUMMARY:Réseaux de parenté et traitement informatique des sources historiques
URL:https://calenda-formation.labocleo.org/195842
DESCRIPTION:L’atelier « Analyse des Données Relationnelles et des Réseaux Sociaux »(EHESS-INED) organise une journée d’étude internationale sur le thème «Réseaux de parenté et traitement informatique des sources historiques ». Ces rencontres (4e édition) se tien… @plus_info https://calenda-formation.labocleo.org/195842
LOCATION:Paris
END:VEVENT
END:VCALENDAR
