BEGIN:VCALENDAR
VERSION:2.0
PRODID:-//https://calenda-formation.labocleo.org
X-WR-CALNAME:Calenda
X-WR-TIMEZONE:Europe/Paris
CALSCALE:GREGORIAN
X-WR-CALDESC:The calendar for arts, humanities and social sciences
METHOD:PUBLISH
BEGIN:VEVENT
DTSTART;VALUE=DATE:20081117
DTEND;VALUE=DATE:20081118
UID:195875-20081117@calenda.revues.org
SUMMARY:Ottoman Urban Studies Seminar 2008-2009
URL:https://calenda-formation.labocleo.org/195875
DESCRIPTION:What is the historical experience of cities in the former territories of the Ottoman Empire - in the Balkans\, Anatolia\, the Middle East\, and North Africa - in dealing with the impact of global changes and the transformation from Empire to nation Stat… @plus_info https://calenda-formation.labocleo.org/195875
LOCATION:Berlin
END:VEVENT
BEGIN:VEVENT
DTSTART;VALUE=DATE:20081124
DTEND;VALUE=DATE:20081125
UID:195875-20081124@calenda.revues.org
SUMMARY:Ottoman Urban Studies Seminar 2008-2009
URL:https://calenda-formation.labocleo.org/195875
DESCRIPTION:What is the historical experience of cities in the former territories of the Ottoman Empire - in the Balkans\, Anatolia\, the Middle East\, and North Africa - in dealing with the impact of global changes and the transformation from Empire to nation Stat… @plus_info https://calenda-formation.labocleo.org/195875
LOCATION:Berlin
END:VEVENT
BEGIN:VEVENT
DTSTART;VALUE=DATE:20081208
DTEND;VALUE=DATE:20081209
UID:195875-20081208@calenda.revues.org
SUMMARY:Ottoman Urban Studies Seminar 2008-2009
URL:https://calenda-formation.labocleo.org/195875
DESCRIPTION:What is the historical experience of cities in the former territories of the Ottoman Empire - in the Balkans\, Anatolia\, the Middle East\, and North Africa - in dealing with the impact of global changes and the transformation from Empire to nation Stat… @plus_info https://calenda-formation.labocleo.org/195875
LOCATION:Berlin
END:VEVENT
BEGIN:VEVENT
DTSTART;VALUE=DATE:20090126
DTEND;VALUE=DATE:20090127
UID:195875-20090126@calenda.revues.org
SUMMARY:Ottoman Urban Studies Seminar 2008-2009
URL:https://calenda-formation.labocleo.org/195875
DESCRIPTION:What is the historical experience of cities in the former territories of the Ottoman Empire - in the Balkans\, Anatolia\, the Middle East\, and North Africa - in dealing with the impact of global changes and the transformation from Empire to nation Stat… @plus_info https://calenda-formation.labocleo.org/195875
LOCATION:Berlin
END:VEVENT
BEGIN:VEVENT
DTSTART;VALUE=DATE:20090209
DTEND;VALUE=DATE:20090210
UID:195875-20090209@calenda.revues.org
SUMMARY:Ottoman Urban Studies Seminar 2008-2009
URL:https://calenda-formation.labocleo.org/195875
DESCRIPTION:What is the historical experience of cities in the former territories of the Ottoman Empire - in the Balkans\, Anatolia\, the Middle East\, and North Africa - in dealing with the impact of global changes and the transformation from Empire to nation Stat… @plus_info https://calenda-formation.labocleo.org/195875
LOCATION:Berlin
END:VEVENT
BEGIN:VEVENT
DTSTART;VALUE=DATE:20090216
DTEND;VALUE=DATE:20090217
UID:195875-20090216@calenda.revues.org
SUMMARY:Ottoman Urban Studies Seminar 2008-2009
URL:https://calenda-formation.labocleo.org/195875
DESCRIPTION:What is the historical experience of cities in the former territories of the Ottoman Empire - in the Balkans\, Anatolia\, the Middle East\, and North Africa - in dealing with the impact of global changes and the transformation from Empire to nation Stat… @plus_info https://calenda-formation.labocleo.org/195875
LOCATION:Berlin
END:VEVENT
BEGIN:VEVENT
DTSTART;VALUE=DATE:20090302
DTEND;VALUE=DATE:20090303
UID:195875-20090302@calenda.revues.org
SUMMARY:Ottoman Urban Studies Seminar 2008-2009
URL:https://calenda-formation.labocleo.org/195875
DESCRIPTION:What is the historical experience of cities in the former territories of the Ottoman Empire - in the Balkans\, Anatolia\, the Middle East\, and North Africa - in dealing with the impact of global changes and the transformation from Empire to nation Stat… @plus_info https://calenda-formation.labocleo.org/195875
LOCATION:Berlin
END:VEVENT
BEGIN:VEVENT
DTSTART;VALUE=DATE:20090316
DTEND;VALUE=DATE:20090317
UID:195875-20090316@calenda.revues.org
SUMMARY:Ottoman Urban Studies Seminar 2008-2009
URL:https://calenda-formation.labocleo.org/195875
DESCRIPTION:What is the historical experience of cities in the former territories of the Ottoman Empire - in the Balkans\, Anatolia\, the Middle East\, and North Africa - in dealing with the impact of global changes and the transformation from Empire to nation Stat… @plus_info https://calenda-formation.labocleo.org/195875
LOCATION:Berlin
END:VEVENT
BEGIN:VEVENT
DTSTART;VALUE=DATE:20090420
DTEND;VALUE=DATE:20090421
UID:195875-20090420@calenda.revues.org
SUMMARY:Ottoman Urban Studies Seminar 2008-2009
URL:https://calenda-formation.labocleo.org/195875
DESCRIPTION:What is the historical experience of cities in the former territories of the Ottoman Empire - in the Balkans\, Anatolia\, the Middle East\, and North Africa - in dealing with the impact of global changes and the transformation from Empire to nation Stat… @plus_info https://calenda-formation.labocleo.org/195875
LOCATION:Berlin
END:VEVENT
BEGIN:VEVENT
DTSTART;VALUE=DATE:20090504
DTEND;VALUE=DATE:20090505
UID:195875-20090504@calenda.revues.org
SUMMARY:Ottoman Urban Studies Seminar 2008-2009
URL:https://calenda-formation.labocleo.org/195875
DESCRIPTION:What is the historical experience of cities in the former territories of the Ottoman Empire - in the Balkans\, Anatolia\, the Middle East\, and North Africa - in dealing with the impact of global changes and the transformation from Empire to nation Stat… @plus_info https://calenda-formation.labocleo.org/195875
LOCATION:Berlin
END:VEVENT
BEGIN:VEVENT
DTSTART;VALUE=DATE:20090518
DTEND;VALUE=DATE:20090519
UID:195875-20090518@calenda.revues.org
SUMMARY:Ottoman Urban Studies Seminar 2008-2009
URL:https://calenda-formation.labocleo.org/195875
DESCRIPTION:What is the historical experience of cities in the former territories of the Ottoman Empire - in the Balkans\, Anatolia\, the Middle East\, and North Africa - in dealing with the impact of global changes and the transformation from Empire to nation Stat… @plus_info https://calenda-formation.labocleo.org/195875
LOCATION:Berlin
END:VEVENT
BEGIN:VEVENT
DTSTART;VALUE=DATE:20090608
DTEND;VALUE=DATE:20090609
UID:195875-20090608@calenda.revues.org
SUMMARY:Ottoman Urban Studies Seminar 2008-2009
URL:https://calenda-formation.labocleo.org/195875
DESCRIPTION:What is the historical experience of cities in the former territories of the Ottoman Empire - in the Balkans\, Anatolia\, the Middle East\, and North Africa - in dealing with the impact of global changes and the transformation from Empire to nation Stat… @plus_info https://calenda-formation.labocleo.org/195875
LOCATION:Berlin
END:VEVENT
BEGIN:VEVENT
DTSTART;VALUE=DATE:20090622
DTEND;VALUE=DATE:20090623
UID:195875-20090622@calenda.revues.org
SUMMARY:Ottoman Urban Studies Seminar 2008-2009
URL:https://calenda-formation.labocleo.org/195875
DESCRIPTION:What is the historical experience of cities in the former territories of the Ottoman Empire - in the Balkans\, Anatolia\, the Middle East\, and North Africa - in dealing with the impact of global changes and the transformation from Empire to nation Stat… @plus_info https://calenda-formation.labocleo.org/195875
LOCATION:Berlin
END:VEVENT
BEGIN:VEVENT
DTSTART;VALUE=DATE:20090112
DTEND;VALUE=DATE:20090113
UID:195875-20090112@calenda.revues.org
SUMMARY:Ottoman Urban Studies Seminar 2008-2009
URL:https://calenda-formation.labocleo.org/195875
DESCRIPTION:What is the historical experience of cities in the former territories of the Ottoman Empire - in the Balkans\, Anatolia\, the Middle East\, and North Africa - in dealing with the impact of global changes and the transformation from Empire to nation Stat… @plus_info https://calenda-formation.labocleo.org/195875
LOCATION:Berlin
END:VEVENT
END:VCALENDAR
