BEGIN:VCALENDAR
VERSION:2.0
PRODID:-//https://calenda-formation.labocleo.org
X-WR-CALNAME:Calenda
X-WR-TIMEZONE:Europe/Paris
CALSCALE:GREGORIAN
X-WR-CALDESC:Le calendrier des lettres et sciences humaines et sociales
METHOD:PUBLISH
BEGIN:VEVENT
DTSTART;VALUE=DATE:20090515
DTEND;VALUE=DATE:20090516
UID:195916-20090515@calenda.revues.org
SUMMARY:Histoire économique et sociale des campagnes (XVIIe-XXe siècle)
URL:https://calenda-formation.labocleo.org/195916
DESCRIPTION:L’objectif de ce séminaire est de prendre en compte les sociétés rurales pour elles-mêmes et dans leurs rapports à la ville et à la modernité\, en développant des comparaisons à l’échelle internationale\, de l’ère préindustrielle à nos jours. Il s’agit… @plus_info https://calenda-formation.labocleo.org/195916
LOCATION:Paris
END:VEVENT
BEGIN:VEVENT
DTSTART;VALUE=DATE:20090213
DTEND;VALUE=DATE:20090214
UID:195916-20090213@calenda.revues.org
SUMMARY:Histoire économique et sociale des campagnes (XVIIe-XXe siècle)
URL:https://calenda-formation.labocleo.org/195916
DESCRIPTION:L’objectif de ce séminaire est de prendre en compte les sociétés rurales pour elles-mêmes et dans leurs rapports à la ville et à la modernité\, en développant des comparaisons à l’échelle internationale\, de l’ère préindustrielle à nos jours. Il s’agit… @plus_info https://calenda-formation.labocleo.org/195916
LOCATION:Paris
END:VEVENT
BEGIN:VEVENT
DTSTART;VALUE=DATE:20090227
DTEND;VALUE=DATE:20090228
UID:195916-20090227@calenda.revues.org
SUMMARY:Histoire économique et sociale des campagnes (XVIIe-XXe siècle)
URL:https://calenda-formation.labocleo.org/195916
DESCRIPTION:L’objectif de ce séminaire est de prendre en compte les sociétés rurales pour elles-mêmes et dans leurs rapports à la ville et à la modernité\, en développant des comparaisons à l’échelle internationale\, de l’ère préindustrielle à nos jours. Il s’agit… @plus_info https://calenda-formation.labocleo.org/195916
LOCATION:Paris
END:VEVENT
BEGIN:VEVENT
DTSTART;VALUE=DATE:20090313
DTEND;VALUE=DATE:20090314
UID:195916-20090313@calenda.revues.org
SUMMARY:Histoire économique et sociale des campagnes (XVIIe-XXe siècle)
URL:https://calenda-formation.labocleo.org/195916
DESCRIPTION:L’objectif de ce séminaire est de prendre en compte les sociétés rurales pour elles-mêmes et dans leurs rapports à la ville et à la modernité\, en développant des comparaisons à l’échelle internationale\, de l’ère préindustrielle à nos jours. Il s’agit… @plus_info https://calenda-formation.labocleo.org/195916
LOCATION:Paris
END:VEVENT
BEGIN:VEVENT
DTSTART;VALUE=DATE:20090320
DTEND;VALUE=DATE:20090321
UID:195916-20090320@calenda.revues.org
SUMMARY:Histoire économique et sociale des campagnes (XVIIe-XXe siècle)
URL:https://calenda-formation.labocleo.org/195916
DESCRIPTION:L’objectif de ce séminaire est de prendre en compte les sociétés rurales pour elles-mêmes et dans leurs rapports à la ville et à la modernité\, en développant des comparaisons à l’échelle internationale\, de l’ère préindustrielle à nos jours. Il s’agit… @plus_info https://calenda-formation.labocleo.org/195916
LOCATION:Paris
END:VEVENT
BEGIN:VEVENT
DTSTART;VALUE=DATE:20090424
DTEND;VALUE=DATE:20090425
UID:195916-20090424@calenda.revues.org
SUMMARY:Histoire économique et sociale des campagnes (XVIIe-XXe siècle)
URL:https://calenda-formation.labocleo.org/195916
DESCRIPTION:L’objectif de ce séminaire est de prendre en compte les sociétés rurales pour elles-mêmes et dans leurs rapports à la ville et à la modernité\, en développant des comparaisons à l’échelle internationale\, de l’ère préindustrielle à nos jours. Il s’agit… @plus_info https://calenda-formation.labocleo.org/195916
LOCATION:Paris
END:VEVENT
BEGIN:VEVENT
DTSTART;VALUE=DATE:20090529
DTEND;VALUE=DATE:20090530
UID:195916-20090529@calenda.revues.org
SUMMARY:Histoire économique et sociale des campagnes (XVIIe-XXe siècle)
URL:https://calenda-formation.labocleo.org/195916
DESCRIPTION:L’objectif de ce séminaire est de prendre en compte les sociétés rurales pour elles-mêmes et dans leurs rapports à la ville et à la modernité\, en développant des comparaisons à l’échelle internationale\, de l’ère préindustrielle à nos jours. Il s’agit… @plus_info https://calenda-formation.labocleo.org/195916
LOCATION:Paris
END:VEVENT
BEGIN:VEVENT
DTSTART;VALUE=DATE:20081212
DTEND;VALUE=DATE:20081213
UID:195916-20081212@calenda.revues.org
SUMMARY:Histoire économique et sociale des campagnes (XVIIe-XXe siècle)
URL:https://calenda-formation.labocleo.org/195916
DESCRIPTION:L’objectif de ce séminaire est de prendre en compte les sociétés rurales pour elles-mêmes et dans leurs rapports à la ville et à la modernité\, en développant des comparaisons à l’échelle internationale\, de l’ère préindustrielle à nos jours. Il s’agit… @plus_info https://calenda-formation.labocleo.org/195916
LOCATION:Paris
END:VEVENT
BEGIN:VEVENT
DTSTART;VALUE=DATE:20081128
DTEND;VALUE=DATE:20081129
UID:195916-20081128@calenda.revues.org
SUMMARY:Histoire économique et sociale des campagnes (XVIIe-XXe siècle)
URL:https://calenda-formation.labocleo.org/195916
DESCRIPTION:L’objectif de ce séminaire est de prendre en compte les sociétés rurales pour elles-mêmes et dans leurs rapports à la ville et à la modernité\, en développant des comparaisons à l’échelle internationale\, de l’ère préindustrielle à nos jours. Il s’agit… @plus_info https://calenda-formation.labocleo.org/195916
LOCATION:Paris
END:VEVENT
BEGIN:VEVENT
DTSTART;VALUE=DATE:20090123
DTEND;VALUE=DATE:20090124
UID:195916-20090123@calenda.revues.org
SUMMARY:Histoire économique et sociale des campagnes (XVIIe-XXe siècle)
URL:https://calenda-formation.labocleo.org/195916
DESCRIPTION:L’objectif de ce séminaire est de prendre en compte les sociétés rurales pour elles-mêmes et dans leurs rapports à la ville et à la modernité\, en développant des comparaisons à l’échelle internationale\, de l’ère préindustrielle à nos jours. Il s’agit… @plus_info https://calenda-formation.labocleo.org/195916
LOCATION:Paris
END:VEVENT
BEGIN:VEVENT
DTSTART;VALUE=DATE:20090109
DTEND;VALUE=DATE:20090110
UID:195916-20090109@calenda.revues.org
SUMMARY:Histoire économique et sociale des campagnes (XVIIe-XXe siècle)
URL:https://calenda-formation.labocleo.org/195916
DESCRIPTION:L’objectif de ce séminaire est de prendre en compte les sociétés rurales pour elles-mêmes et dans leurs rapports à la ville et à la modernité\, en développant des comparaisons à l’échelle internationale\, de l’ère préindustrielle à nos jours. Il s’agit… @plus_info https://calenda-formation.labocleo.org/195916
LOCATION:Paris
END:VEVENT
BEGIN:VEVENT
DTSTART;VALUE=DATE:20081114
DTEND;VALUE=DATE:20081115
UID:195916-20081114@calenda.revues.org
SUMMARY:Histoire économique et sociale des campagnes (XVIIe-XXe siècle)
URL:https://calenda-formation.labocleo.org/195916
DESCRIPTION:L’objectif de ce séminaire est de prendre en compte les sociétés rurales pour elles-mêmes et dans leurs rapports à la ville et à la modernité\, en développant des comparaisons à l’échelle internationale\, de l’ère préindustrielle à nos jours. Il s’agit… @plus_info https://calenda-formation.labocleo.org/195916
LOCATION:Paris
END:VEVENT
BEGIN:VEVENT
DTSTART;VALUE=DATE:20090612
DTEND;VALUE=DATE:20090613
UID:195916-20090612@calenda.revues.org
SUMMARY:Histoire économique et sociale des campagnes (XVIIe-XXe siècle)
URL:https://calenda-formation.labocleo.org/195916
DESCRIPTION:L’objectif de ce séminaire est de prendre en compte les sociétés rurales pour elles-mêmes et dans leurs rapports à la ville et à la modernité\, en développant des comparaisons à l’échelle internationale\, de l’ère préindustrielle à nos jours. Il s’agit… @plus_info https://calenda-formation.labocleo.org/195916
LOCATION:Paris
END:VEVENT
END:VCALENDAR
