BEGIN:VCALENDAR
VERSION:2.0
PRODID:-//https://calenda-formation.labocleo.org
X-WR-CALNAME:Calenda
X-WR-TIMEZONE:Europe/Paris
CALSCALE:GREGORIAN
X-WR-CALDESC:The calendar for arts, humanities and social sciences
METHOD:PUBLISH
BEGIN:VEVENT
DTSTART;VALUE=DATE:20090131
DTEND;VALUE=DATE:20090201
UID:195946-20090131@calenda.revues.org
SUMMARY:Culture\, territoires et société en Europe / Culture\, territories and society in Europe
URL:https://calenda-formation.labocleo.org/195946
DESCRIPTION:La culture\, si elle occupe de bien des façons une place de plus en plus importante dans la vie quotidienne des citoyens européens\, apparaît comme un champ aux contours très flous. Fortes de ce constat\, les sciences sociales s’attachent à rendre compt… @plus_info https://calenda-formation.labocleo.org/195946
LOCATION:Grenoble
END:VEVENT
END:VCALENDAR
