BEGIN:VCALENDAR
VERSION:2.0
PRODID:-//https://calenda-formation.labocleo.org
X-WR-CALNAME:Calenda
X-WR-TIMEZONE:Europe/Paris
CALSCALE:GREGORIAN
X-WR-CALDESC:O calendário de letras e de ciências sociais e humanas
METHOD:PUBLISH
BEGIN:VEVENT
DTSTART;VALUE=DATE:20081210
DTEND;VALUE=DATE:20081211
UID:195967-20081210@calenda.revues.org
SUMMARY:Groupe d’études comparées cultures et inégalités 
URL:https://calenda-formation.labocleo.org/195967
DESCRIPTION:Initiative lancée par des doctorants de l’IHEAL-CREDAL et de l’EHESS-CEMS\, le GECCI se propose de réunir étudiants et chercheurs en sciences humaines dans une démarche comparative et transdisciplinaire\, afin d’ouvrir un nouvel espace de réflexions su… @plus_info https://calenda-formation.labocleo.org/195967
LOCATION:Paris
END:VEVENT
BEGIN:VEVENT
DTSTART;VALUE=DATE:20090107
DTEND;VALUE=DATE:20090108
UID:195967-20090107@calenda.revues.org
SUMMARY:Groupe d’études comparées cultures et inégalités 
URL:https://calenda-formation.labocleo.org/195967
DESCRIPTION:Initiative lancée par des doctorants de l’IHEAL-CREDAL et de l’EHESS-CEMS\, le GECCI se propose de réunir étudiants et chercheurs en sciences humaines dans une démarche comparative et transdisciplinaire\, afin d’ouvrir un nouvel espace de réflexions su… @plus_info https://calenda-formation.labocleo.org/195967
LOCATION:Paris
END:VEVENT
BEGIN:VEVENT
DTSTART;VALUE=DATE:20090304
DTEND;VALUE=DATE:20090305
UID:195967-20090304@calenda.revues.org
SUMMARY:Groupe d’études comparées cultures et inégalités 
URL:https://calenda-formation.labocleo.org/195967
DESCRIPTION:Initiative lancée par des doctorants de l’IHEAL-CREDAL et de l’EHESS-CEMS\, le GECCI se propose de réunir étudiants et chercheurs en sciences humaines dans une démarche comparative et transdisciplinaire\, afin d’ouvrir un nouvel espace de réflexions su… @plus_info https://calenda-formation.labocleo.org/195967
LOCATION:Paris
END:VEVENT
BEGIN:VEVENT
DTSTART;VALUE=DATE:20090311
DTEND;VALUE=DATE:20090312
UID:195967-20090311@calenda.revues.org
SUMMARY:Groupe d’études comparées cultures et inégalités 
URL:https://calenda-formation.labocleo.org/195967
DESCRIPTION:Initiative lancée par des doctorants de l’IHEAL-CREDAL et de l’EHESS-CEMS\, le GECCI se propose de réunir étudiants et chercheurs en sciences humaines dans une démarche comparative et transdisciplinaire\, afin d’ouvrir un nouvel espace de réflexions su… @plus_info https://calenda-formation.labocleo.org/195967
LOCATION:Paris
END:VEVENT
BEGIN:VEVENT
DTSTART;VALUE=DATE:20090527
DTEND;VALUE=DATE:20090528
UID:195967-20090527@calenda.revues.org
SUMMARY:Groupe d’études comparées cultures et inégalités 
URL:https://calenda-formation.labocleo.org/195967
DESCRIPTION:Initiative lancée par des doctorants de l’IHEAL-CREDAL et de l’EHESS-CEMS\, le GECCI se propose de réunir étudiants et chercheurs en sciences humaines dans une démarche comparative et transdisciplinaire\, afin d’ouvrir un nouvel espace de réflexions su… @plus_info https://calenda-formation.labocleo.org/195967
LOCATION:Paris
END:VEVENT
BEGIN:VEVENT
DTSTART;VALUE=DATE:20090610
DTEND;VALUE=DATE:20090611
UID:195967-20090610@calenda.revues.org
SUMMARY:Groupe d’études comparées cultures et inégalités 
URL:https://calenda-formation.labocleo.org/195967
DESCRIPTION:Initiative lancée par des doctorants de l’IHEAL-CREDAL et de l’EHESS-CEMS\, le GECCI se propose de réunir étudiants et chercheurs en sciences humaines dans une démarche comparative et transdisciplinaire\, afin d’ouvrir un nouvel espace de réflexions su… @plus_info https://calenda-formation.labocleo.org/195967
LOCATION:Paris
END:VEVENT
END:VCALENDAR
