BEGIN:VCALENDAR
VERSION:2.0
PRODID:-//https://calenda-formation.labocleo.org
X-WR-CALNAME:Calenda
X-WR-TIMEZONE:Europe/Paris
CALSCALE:GREGORIAN
X-WR-CALDESC:Le calendrier des lettres et sciences humaines et sociales
METHOD:PUBLISH
BEGIN:VEVENT
DTSTART;VALUE=DATE:20090531
DTEND;VALUE=DATE:20090601
UID:195971-20090531@calenda.revues.org
SUMMARY:Savoirs littéraires et imaginaires scientifique (2009)
URL:https://calenda-formation.labocleo.org/195971
DESCRIPTION:Appel à projet pour une nouvelle collection : Yves Citton et Lise Dumasy\, professeurs de littérature française\, Patrick Pajon\, maître de conférence en sciences de l'information et de la communication envisagent de créer aux ELLUG une collection intit… Weitere Informationen https://calenda-formation.labocleo.org/195971
LOCATION:
END:VEVENT
END:VCALENDAR
