BEGIN:VCALENDAR
VERSION:2.0
PRODID:-//https://calenda-formation.labocleo.org
X-WR-CALNAME:Calenda
X-WR-TIMEZONE:Europe/Paris
CALSCALE:GREGORIAN
X-WR-CALDESC:Le calendrier des lettres et sciences humaines et sociales
METHOD:PUBLISH
BEGIN:VEVENT
DTSTART;VALUE=DATE:20081127
DTEND;VALUE=DATE:20081128
UID:195980-20081127@calenda.revues.org
SUMMARY:L'art surpris par le social
URL:https://calenda-formation.labocleo.org/195980
DESCRIPTION:L’inscription de caractéristiques du monde social dans l’œuvre est un fait marquant de nombreuses pratiques de l’art. Après le langage ou la sémiologie hier\, la préoccupation du social propose aujourd’hui un nouveau paradigme artistique. Participatio… @plus_info https://calenda-formation.labocleo.org/195980
LOCATION:Rennes
END:VEVENT
BEGIN:VEVENT
DTSTART;VALUE=DATE:20081128
DTEND;VALUE=DATE:20081129
UID:195980-20081128@calenda.revues.org
SUMMARY:L'art surpris par le social
URL:https://calenda-formation.labocleo.org/195980
DESCRIPTION:L’inscription de caractéristiques du monde social dans l’œuvre est un fait marquant de nombreuses pratiques de l’art. Après le langage ou la sémiologie hier\, la préoccupation du social propose aujourd’hui un nouveau paradigme artistique. Participatio… @plus_info https://calenda-formation.labocleo.org/195980
LOCATION:Rennes
END:VEVENT
BEGIN:VEVENT
DTSTART;VALUE=DATE:20081129
DTEND;VALUE=DATE:20081130
UID:195980-20081129@calenda.revues.org
SUMMARY:L'art surpris par le social
URL:https://calenda-formation.labocleo.org/195980
DESCRIPTION:L’inscription de caractéristiques du monde social dans l’œuvre est un fait marquant de nombreuses pratiques de l’art. Après le langage ou la sémiologie hier\, la préoccupation du social propose aujourd’hui un nouveau paradigme artistique. Participatio… @plus_info https://calenda-formation.labocleo.org/195980
LOCATION:Rennes
END:VEVENT
END:VCALENDAR
