BEGIN:VCALENDAR
VERSION:2.0
PRODID:-//https://calenda-formation.labocleo.org
X-WR-CALNAME:Calenda
X-WR-TIMEZONE:Europe/Paris
CALSCALE:GREGORIAN
X-WR-CALDESC:Le calendrier des lettres et sciences humaines et sociales
METHOD:PUBLISH
BEGIN:VEVENT
DTSTART;VALUE=DATE:20090215
DTEND;VALUE=DATE:20090216
UID:195999-20090215@calenda.revues.org
SUMMARY:Deuxième édition des rencontres annuelles des doctorants en études byzantines
URL:https://calenda-formation.labocleo.org/195999
DESCRIPTION:Fort du succès de la première édition de ces rencontres\, Les Byzantines renouvelle son invitation aux doctorants en études byzantines qui souhaitent se rencontrer pour échanger\, confronter et présenter leur recherche. Les Rencontres annuelles des doc… @plus_info https://calenda-formation.labocleo.org/195999
LOCATION:Paris
END:VEVENT
END:VCALENDAR
