BEGIN:VCALENDAR
VERSION:2.0
PRODID:-//https://calenda-formation.labocleo.org
X-WR-CALNAME:Calenda
X-WR-TIMEZONE:Europe/Paris
CALSCALE:GREGORIAN
X-WR-CALDESC:The calendar for arts, humanities and social sciences
METHOD:PUBLISH
BEGIN:VEVENT
DTSTART;VALUE=DATE:20081127
DTEND;VALUE=DATE:20081128
UID:196048-20081127@calenda.revues.org
SUMMARY:Héros militaire\, culture et société
URL:https://calenda-formation.labocleo.org/196048
DESCRIPTION:Élargissant la thématique sur « Le héros dans la culture militaire » qui a été l’objet central des recherches de la commission durant les années universitaires 2006-2007 et 2007-2008 les conférences et les débats de l’année 2008-2009 amèneront à s’in… @plus_info https://calenda-formation.labocleo.org/196048
LOCATION:Châteauroux
END:VEVENT
BEGIN:VEVENT
DTSTART;VALUE=DATE:20090305
DTEND;VALUE=DATE:20090306
UID:196048-20090305@calenda.revues.org
SUMMARY:Héros militaire\, culture et société
URL:https://calenda-formation.labocleo.org/196048
DESCRIPTION:Élargissant la thématique sur « Le héros dans la culture militaire » qui a été l’objet central des recherches de la commission durant les années universitaires 2006-2007 et 2007-2008 les conférences et les débats de l’année 2008-2009 amèneront à s’in… @plus_info https://calenda-formation.labocleo.org/196048
LOCATION:Châteauroux
END:VEVENT
BEGIN:VEVENT
DTSTART;VALUE=DATE:20090430
DTEND;VALUE=DATE:20090501
UID:196048-20090430@calenda.revues.org
SUMMARY:Héros militaire\, culture et société
URL:https://calenda-formation.labocleo.org/196048
DESCRIPTION:Élargissant la thématique sur « Le héros dans la culture militaire » qui a été l’objet central des recherches de la commission durant les années universitaires 2006-2007 et 2007-2008 les conférences et les débats de l’année 2008-2009 amèneront à s’in… @plus_info https://calenda-formation.labocleo.org/196048
LOCATION:Châteauroux
END:VEVENT
BEGIN:VEVENT
DTSTART;VALUE=DATE:20090514
DTEND;VALUE=DATE:20090515
UID:196048-20090514@calenda.revues.org
SUMMARY:Héros militaire\, culture et société
URL:https://calenda-formation.labocleo.org/196048
DESCRIPTION:Élargissant la thématique sur « Le héros dans la culture militaire » qui a été l’objet central des recherches de la commission durant les années universitaires 2006-2007 et 2007-2008 les conférences et les débats de l’année 2008-2009 amèneront à s’in… @plus_info https://calenda-formation.labocleo.org/196048
LOCATION:Châteauroux
END:VEVENT
BEGIN:VEVENT
DTSTART;VALUE=DATE:20090611
DTEND;VALUE=DATE:20090612
UID:196048-20090611@calenda.revues.org
SUMMARY:Héros militaire\, culture et société
URL:https://calenda-formation.labocleo.org/196048
DESCRIPTION:Élargissant la thématique sur « Le héros dans la culture militaire » qui a été l’objet central des recherches de la commission durant les années universitaires 2006-2007 et 2007-2008 les conférences et les débats de l’année 2008-2009 amèneront à s’in… @plus_info https://calenda-formation.labocleo.org/196048
LOCATION:Châteauroux
END:VEVENT
END:VCALENDAR
