BEGIN:VCALENDAR
VERSION:2.0
PRODID:-//https://calenda-formation.labocleo.org
X-WR-CALNAME:Calenda
X-WR-TIMEZONE:Europe/Paris
CALSCALE:GREGORIAN
X-WR-CALDESC:The calendar for arts, humanities and social sciences
METHOD:PUBLISH
BEGIN:VEVENT
DTSTART;VALUE=DATE:20081218
DTEND;VALUE=DATE:20081219
UID:196050-20081218@calenda.revues.org
SUMMARY:Territorialités\, migrations et rapports au polititique
URL:https://calenda-formation.labocleo.org/196050
DESCRIPTION:Cette journée répond à une double interrogation\, qui déborde l’étude des migrations. La première est celle-ci : comment s’articulent les territorialités formées par les circulations migratoires et les territoires politiques traversés par ces mêmes ci… @plus_info https://calenda-formation.labocleo.org/196050
LOCATION:Poitiers
END:VEVENT
END:VCALENDAR
