BEGIN:VCALENDAR
VERSION:2.0
PRODID:-//https://calenda-formation.labocleo.org
X-WR-CALNAME:Calenda
X-WR-TIMEZONE:Europe/Paris
CALSCALE:GREGORIAN
X-WR-CALDESC:The calendar for arts, humanities and social sciences
METHOD:PUBLISH
BEGIN:VEVENT
DTSTART;VALUE=DATE:20081204
DTEND;VALUE=DATE:20081205
UID:196107-20081204@calenda.revues.org
SUMMARY:Inscriptions latines de Narbonnaise - 4 : épigraphie et informatique
URL:https://calenda-formation.labocleo.org/196107
DESCRIPTION:Ce colloque\, organisé par le Centre Camille Jullian (CNRS-UMR 6573) et consacré à l’épigraphie de la Gaule romaine\, présentera les recherches en cours relatives aux inscriptions de la province romaine de Gaule Narbonnaise et des régions périphériques… @plus_info https://calenda-formation.labocleo.org/196107
LOCATION:Aix-en-Provence
END:VEVENT
BEGIN:VEVENT
DTSTART;VALUE=DATE:20081205
DTEND;VALUE=DATE:20081206
UID:196107-20081205@calenda.revues.org
SUMMARY:Inscriptions latines de Narbonnaise - 4 : épigraphie et informatique
URL:https://calenda-formation.labocleo.org/196107
DESCRIPTION:Ce colloque\, organisé par le Centre Camille Jullian (CNRS-UMR 6573) et consacré à l’épigraphie de la Gaule romaine\, présentera les recherches en cours relatives aux inscriptions de la province romaine de Gaule Narbonnaise et des régions périphériques… @plus_info https://calenda-formation.labocleo.org/196107
LOCATION:Aix-en-Provence
END:VEVENT
END:VCALENDAR
