BEGIN:VCALENDAR
VERSION:2.0
PRODID:-//https://calenda-formation.labocleo.org
X-WR-CALNAME:Calenda
X-WR-TIMEZONE:Europe/Paris
CALSCALE:GREGORIAN
X-WR-CALDESC:Le calendrier des lettres et sciences humaines et sociales
METHOD:PUBLISH
BEGIN:VEVENT
DTSTART;VALUE=DATE:20090630
DTEND;VALUE=DATE:20090701
UID:196112-20090630@calenda.revues.org
SUMMARY:L'image dans l'histoire de la formation des adultes
URL:https://calenda-formation.labocleo.org/196112
DESCRIPTION:Depuis très longtemps\, l’image est considérée comme le moyen de faire accéder plus facilement au savoir différentes catégories de personnes d’un niveau d’instruction sommaire. Avant d’illustrer\, l’image a une fonction de représentation\, par exemple d… @plus_info https://calenda-formation.labocleo.org/196112
LOCATION:
END:VEVENT
END:VCALENDAR
