BEGIN:VCALENDAR
VERSION:2.0
PRODID:-//https://calenda-formation.labocleo.org
X-WR-CALNAME:Calenda
X-WR-TIMEZONE:Europe/Paris
CALSCALE:GREGORIAN
X-WR-CALDESC:Le calendrier des lettres et sciences humaines et sociales
METHOD:PUBLISH
BEGIN:VEVENT
DTSTART;VALUE=DATE:20081218
DTEND;VALUE=DATE:20081219
UID:196173-20081218@calenda.revues.org
SUMMARY:Sciences sociales et VIH/sida : terrains\, méthodes\, dialogues
URL:https://calenda-formation.labocleo.org/196173
DESCRIPTION:La recherche sur les enjeux sociaux et politiques liés à l’épidémie de VIH/sida met les sciences sociales face des questions complexes\, inscrites dans une histoire courte mais dense\, des terrains qui se diversifient\, notamment au sud\, et des interrog… Weitere Informationen https://calenda-formation.labocleo.org/196173
LOCATION:Aix-en-Provence\, Paris
END:VEVENT
BEGIN:VEVENT
DTSTART;VALUE=DATE:20090129
DTEND;VALUE=DATE:20090130
UID:196173-20090129@calenda.revues.org
SUMMARY:Sciences sociales et VIH/sida : terrains\, méthodes\, dialogues
URL:https://calenda-formation.labocleo.org/196173
DESCRIPTION:La recherche sur les enjeux sociaux et politiques liés à l’épidémie de VIH/sida met les sciences sociales face des questions complexes\, inscrites dans une histoire courte mais dense\, des terrains qui se diversifient\, notamment au sud\, et des interrog… Weitere Informationen https://calenda-formation.labocleo.org/196173
LOCATION:Aix-en-Provence\, Paris
END:VEVENT
BEGIN:VEVENT
DTSTART;VALUE=DATE:20090402
DTEND;VALUE=DATE:20090403
UID:196173-20090402@calenda.revues.org
SUMMARY:Sciences sociales et VIH/sida : terrains\, méthodes\, dialogues
URL:https://calenda-formation.labocleo.org/196173
DESCRIPTION:La recherche sur les enjeux sociaux et politiques liés à l’épidémie de VIH/sida met les sciences sociales face des questions complexes\, inscrites dans une histoire courte mais dense\, des terrains qui se diversifient\, notamment au sud\, et des interrog… Weitere Informationen https://calenda-formation.labocleo.org/196173
LOCATION:Aix-en-Provence\, Paris
END:VEVENT
BEGIN:VEVENT
DTSTART;VALUE=DATE:20090611
DTEND;VALUE=DATE:20090612
UID:196173-20090611@calenda.revues.org
SUMMARY:Sciences sociales et VIH/sida : terrains\, méthodes\, dialogues
URL:https://calenda-formation.labocleo.org/196173
DESCRIPTION:La recherche sur les enjeux sociaux et politiques liés à l’épidémie de VIH/sida met les sciences sociales face des questions complexes\, inscrites dans une histoire courte mais dense\, des terrains qui se diversifient\, notamment au sud\, et des interrog… Weitere Informationen https://calenda-formation.labocleo.org/196173
LOCATION:Aix-en-Provence\, Paris
END:VEVENT
END:VCALENDAR
