BEGIN:VCALENDAR
VERSION:2.0
PRODID:-//https://calenda-formation.labocleo.org
X-WR-CALNAME:Calenda
X-WR-TIMEZONE:Europe/Paris
CALSCALE:GREGORIAN
X-WR-CALDESC:Le calendrier des lettres et sciences humaines et sociales
METHOD:PUBLISH
BEGIN:VEVENT
DTSTART;VALUE=DATE:20090315
DTEND;VALUE=DATE:20090316
UID:196193-20090315@calenda.revues.org
SUMMARY:Intus et foris
URL:https://calenda-formation.labocleo.org/196193
DESCRIPTION:Reprenant une distinction opérée par saint Paul et systématisée par saint Augustin\, la théologie médiévale offre une description bipolaire de l’être humain\, qui constitue un cadre de pensée majeur au Moyen Âge\, une grille de lecture qui s’actualise d… @plus_info https://calenda-formation.labocleo.org/196193
LOCATION:Paris
END:VEVENT
END:VCALENDAR
