BEGIN:VCALENDAR
VERSION:2.0
PRODID:-//https://calenda-formation.labocleo.org
X-WR-CALNAME:Calenda
X-WR-TIMEZONE:Europe/Paris
CALSCALE:GREGORIAN
X-WR-CALDESC:The calendar for arts, humanities and social sciences
METHOD:PUBLISH
BEGIN:VEVENT
DTSTART;VALUE=DATE:20090228
DTEND;VALUE=DATE:20090301
UID:196194-20090228@calenda.revues.org
SUMMARY:Foules\, événements\, affects / Crowds\, Events\, Affects
URL:https://calenda-formation.labocleo.org/196194
DESCRIPTION:Nous recherchons des contributions pour un futur numéro de la revue Conserveries mémorielles sur la thématique Foules\, évenements\, affects. Les foules peuvent peser sur la vie sociale en tant qu'entités fantasmatiques ou présences spectrales ou comme… @plus_info https://calenda-formation.labocleo.org/196194
LOCATION:
END:VEVENT
END:VCALENDAR
