BEGIN:VCALENDAR
VERSION:2.0
PRODID:-//https://calenda-formation.labocleo.org
X-WR-CALNAME:Calenda
X-WR-TIMEZONE:Europe/Paris
CALSCALE:GREGORIAN
X-WR-CALDESC:Le calendrier des lettres et sciences humaines et sociales
METHOD:PUBLISH
BEGIN:VEVENT
DTSTART;VALUE=DATE:20090117
DTEND;VALUE=DATE:20090118
UID:196195-20090117@calenda.revues.org
SUMMARY:Jeune Europe\, jeunes d'Europe
URL:https://calenda-formation.labocleo.org/196195
DESCRIPTION:Le rôle joué par les organisations de jeunesse dans la dynamique de la construction européenne demeure\, à bien des égards\, mal connu. Certes\, on n’ignore pas que les jeunes ont pu être les cibles privilégiées d’actions visant à la réconciliation ou a… Más informaciones https://calenda-formation.labocleo.org/196195
LOCATION:Créteil
END:VEVENT
END:VCALENDAR
