BEGIN:VCALENDAR
VERSION:2.0
PRODID:-//https://calenda-formation.labocleo.org
X-WR-CALNAME:Calenda
X-WR-TIMEZONE:Europe/Paris
CALSCALE:GREGORIAN
X-WR-CALDESC:Le calendrier des lettres et sciences humaines et sociales
METHOD:PUBLISH
BEGIN:VEVENT
DTSTART;VALUE=DATE:20090502
DTEND;VALUE=DATE:20090503
UID:196196-20090502@calenda.revues.org
SUMMARY:Vivre l'anarchie : expériences communautaires et réalisations alternatives (XIXe et XXe siècles)
URL:https://calenda-formation.labocleo.org/196196
DESCRIPTION:Tout un pan de la tradition socialiste et ouvrière que l'approche marxiste stalinienne avait stigmatisé comme utopiste sort de l'ombre aujourd’hui. Qu'il s'agisse du commerce équitable\, du crédit gratuit ou de l'économie sociale\, nous assistons à une… @plus_info https://calenda-formation.labocleo.org/196196
LOCATION:
END:VEVENT
BEGIN:VEVENT
DTSTART;VALUE=DATE:20090501
DTEND;VALUE=DATE:20090502
UID:196196-20090501@calenda.revues.org
SUMMARY:Vivre l'anarchie : expériences communautaires et réalisations alternatives (XIXe et XXe siècles)
URL:https://calenda-formation.labocleo.org/196196
DESCRIPTION:Tout un pan de la tradition socialiste et ouvrière que l'approche marxiste stalinienne avait stigmatisé comme utopiste sort de l'ombre aujourd’hui. Qu'il s'agisse du commerce équitable\, du crédit gratuit ou de l'économie sociale\, nous assistons à une… @plus_info https://calenda-formation.labocleo.org/196196
LOCATION:
END:VEVENT
BEGIN:VEVENT
DTSTART;VALUE=DATE:20090503
DTEND;VALUE=DATE:20090504
UID:196196-20090503@calenda.revues.org
SUMMARY:Vivre l'anarchie : expériences communautaires et réalisations alternatives (XIXe et XXe siècles)
URL:https://calenda-formation.labocleo.org/196196
DESCRIPTION:Tout un pan de la tradition socialiste et ouvrière que l'approche marxiste stalinienne avait stigmatisé comme utopiste sort de l'ombre aujourd’hui. Qu'il s'agisse du commerce équitable\, du crédit gratuit ou de l'économie sociale\, nous assistons à une… @plus_info https://calenda-formation.labocleo.org/196196
LOCATION:
END:VEVENT
END:VCALENDAR
