BEGIN:VCALENDAR
VERSION:2.0
PRODID:-//https://calenda-formation.labocleo.org
X-WR-CALNAME:Calenda
X-WR-TIMEZONE:Europe/Paris
CALSCALE:GREGORIAN
X-WR-CALDESC:Le calendrier des lettres et sciences humaines et sociales
METHOD:PUBLISH
BEGIN:VEVENT
DTSTART;VALUE=DATE:20090125
DTEND;VALUE=DATE:20090126
UID:196214-20090125@calenda.revues.org
SUMMARY:Le discours sub specie ludi. Les journées de la francophonie 
URL:https://calenda-formation.labocleo.org/196214
DESCRIPTION:Se proposant d’honorer d’une manière moins conventionnelle le centenaire de la naissance d’Eugène Ionesco\, les membres du groupe de recherche Espaces de (la) fiction vous invitent à une réflexion commune sur le discours considéré sub specie ludi. Ins… @plus_info https://calenda-formation.labocleo.org/196214
LOCATION:Bacău
END:VEVENT
END:VCALENDAR
