BEGIN:VCALENDAR
VERSION:2.0
PRODID:-//https://calenda-formation.labocleo.org
X-WR-CALNAME:Calenda
X-WR-TIMEZONE:Europe/Paris
CALSCALE:GREGORIAN
X-WR-CALDESC:Le calendrier des lettres et sciences humaines et sociales
METHOD:PUBLISH
BEGIN:VEVENT
DTSTART;VALUE=DATE:20090119
DTEND;VALUE=DATE:20090120
UID:196231-20090119@calenda.revues.org
SUMMARY:Si la science m'était contée : paroles de scientifiques. L'évolution
URL:https://calenda-formation.labocleo.org/196231
DESCRIPTION:Qu’est-ce que l’évolution ? Pourquoi cette théorie qui continue à être le cadre conceptuel dans lequel travaillent l’ensemble des sciences du vivant continue-t-elle à susciter de si virulentes réactions ?… Weitere Informationen https://calenda-formation.labocleo.org/196231
LOCATION:Paris
END:VEVENT
BEGIN:VEVENT
DTSTART;VALUE=DATE:20090216
DTEND;VALUE=DATE:20090217
UID:196231-20090216@calenda.revues.org
SUMMARY:Si la science m'était contée : paroles de scientifiques. L'évolution
URL:https://calenda-formation.labocleo.org/196231
DESCRIPTION:Qu’est-ce que l’évolution ? Pourquoi cette théorie qui continue à être le cadre conceptuel dans lequel travaillent l’ensemble des sciences du vivant continue-t-elle à susciter de si virulentes réactions ?… Weitere Informationen https://calenda-formation.labocleo.org/196231
LOCATION:Paris
END:VEVENT
END:VCALENDAR
