BEGIN:VCALENDAR
VERSION:2.0
PRODID:-//https://calenda-formation.labocleo.org
X-WR-CALNAME:Calenda
X-WR-TIMEZONE:Europe/Paris
CALSCALE:GREGORIAN
X-WR-CALDESC:Le calendrier des lettres et sciences humaines et sociales
METHOD:PUBLISH
BEGIN:VEVENT
DTSTART;VALUE=DATE:20090215
DTEND;VALUE=DATE:20090216
UID:196236-20090215@calenda.revues.org
SUMMARY:Religion et opposition politique en Afrique
URL:https://calenda-formation.labocleo.org/196236
DESCRIPTION:Ce numéro thématique portera spécifiquement sur l’articulation entre les croyances religieuses ou coutumières et les formes d'opposition politiques dans l'Afrique contemporaine. Pour cela\, l’approche privilégiée sera celle d’une anthropologie par le … Weitere Informationen https://calenda-formation.labocleo.org/196236
LOCATION:
END:VEVENT
END:VCALENDAR
