BEGIN:VCALENDAR
VERSION:2.0
PRODID:-//https://calenda-formation.labocleo.org
X-WR-CALNAME:Calenda
X-WR-TIMEZONE:Europe/Paris
CALSCALE:GREGORIAN
X-WR-CALDESC:O calendário de letras e de ciências sociais e humanas
METHOD:PUBLISH
BEGIN:VEVENT
DTSTART;VALUE=DATE:20090212
DTEND;VALUE=DATE:20090213
UID:196245-20090212@calenda.revues.org
SUMMARY:« 70 años después ». La littérature espagnole et les camps français d’internement (1939-1945)
URL:https://calenda-formation.labocleo.org/196245
DESCRIPTION:Du 12 au 14 février 2009 se tiendra en l'Université de Nanterre (Bâtiment B\, salle des Conférences et salle Paul Ricoeur) un colloque international réunissant les meilleurs spécialistes de la littérature des camps autour des camps français d'internem… @plus_info https://calenda-formation.labocleo.org/196245
LOCATION:Nanterre
END:VEVENT
BEGIN:VEVENT
DTSTART;VALUE=DATE:20090213
DTEND;VALUE=DATE:20090214
UID:196245-20090213@calenda.revues.org
SUMMARY:« 70 años después ». La littérature espagnole et les camps français d’internement (1939-1945)
URL:https://calenda-formation.labocleo.org/196245
DESCRIPTION:Du 12 au 14 février 2009 se tiendra en l'Université de Nanterre (Bâtiment B\, salle des Conférences et salle Paul Ricoeur) un colloque international réunissant les meilleurs spécialistes de la littérature des camps autour des camps français d'internem… @plus_info https://calenda-formation.labocleo.org/196245
LOCATION:Nanterre
END:VEVENT
BEGIN:VEVENT
DTSTART;VALUE=DATE:20090214
DTEND;VALUE=DATE:20090215
UID:196245-20090214@calenda.revues.org
SUMMARY:« 70 años después ». La littérature espagnole et les camps français d’internement (1939-1945)
URL:https://calenda-formation.labocleo.org/196245
DESCRIPTION:Du 12 au 14 février 2009 se tiendra en l'Université de Nanterre (Bâtiment B\, salle des Conférences et salle Paul Ricoeur) un colloque international réunissant les meilleurs spécialistes de la littérature des camps autour des camps français d'internem… @plus_info https://calenda-formation.labocleo.org/196245
LOCATION:Nanterre
END:VEVENT
END:VCALENDAR
