BEGIN:VCALENDAR
VERSION:2.0
PRODID:-//https://calenda-formation.labocleo.org
X-WR-CALNAME:Calenda
X-WR-TIMEZONE:Europe/Paris
CALSCALE:GREGORIAN
X-WR-CALDESC:Le calendrier des lettres et sciences humaines et sociales
METHOD:PUBLISH
BEGIN:VEVENT
DTSTART;VALUE=DATE:20090120
DTEND;VALUE=DATE:20090121
UID:196252-20090120@calenda.revues.org
SUMMARY:Philosophies de gestion
URL:https://calenda-formation.labocleo.org/196252
DESCRIPTION:À l'occasion de la nuit de la philosophie — événement montréalais consistant en un marathon d'activités se déroulant sur une période de 24 heures consécutives —\, l'association des étudiants au doctorat en administration de l'ESG UQAM organise un coll… Weitere Informationen https://calenda-formation.labocleo.org/196252
LOCATION:Montreal
END:VEVENT
END:VCALENDAR
