BEGIN:VCALENDAR
VERSION:2.0
PRODID:-//https://calenda-formation.labocleo.org
X-WR-CALNAME:Calenda
X-WR-TIMEZONE:Europe/Paris
CALSCALE:GREGORIAN
X-WR-CALDESC:Le calendrier des lettres et sciences humaines et sociales
METHOD:PUBLISH
BEGIN:VEVENT
DTSTART;VALUE=DATE:20090430
DTEND;VALUE=DATE:20090501
UID:196294-20090430@calenda.revues.org
SUMMARY:Paul Claudel et la Chine
URL:https://calenda-formation.labocleo.org/196294
DESCRIPTION:Paul Claudel aura passé près de quinze ans dans l’Empire du Milieu\, années très fécondes\, tant sur le plan littéraire qu’au plan du développement spirituel et intellectuel de l’homme et de l’artiste.… Más informaciones https://calenda-formation.labocleo.org/196294
LOCATION:Wuhan
END:VEVENT
END:VCALENDAR
