BEGIN:VCALENDAR
VERSION:2.0
PRODID:-//https://calenda-formation.labocleo.org
X-WR-CALNAME:Calenda
X-WR-TIMEZONE:Europe/Paris
CALSCALE:GREGORIAN
X-WR-CALDESC:Le calendrier des lettres et sciences humaines et sociales
METHOD:PUBLISH
BEGIN:VEVENT
DTSTART;VALUE=DATE:20090127
DTEND;VALUE=DATE:20090128
UID:196334-20090127@calenda.revues.org
SUMMARY:Publication électronique
URL:https://calenda-formation.labocleo.org/196334
DESCRIPTION:L’Institut de recherche et d’histoire des textes (http://www.irht.cnrs.fr/) a une longue tradition d’édition et de gestion électroniques de manuscrits. Dans ce cadre\, il organise un séminaire ouvert au public et portant sur l’édition électronique et … Weitere Informationen https://calenda-formation.labocleo.org/196334
LOCATION:Orléans
END:VEVENT
BEGIN:VEVENT
DTSTART;VALUE=DATE:20090224
DTEND;VALUE=DATE:20090225
UID:196334-20090224@calenda.revues.org
SUMMARY:Publication électronique
URL:https://calenda-formation.labocleo.org/196334
DESCRIPTION:L’Institut de recherche et d’histoire des textes (http://www.irht.cnrs.fr/) a une longue tradition d’édition et de gestion électroniques de manuscrits. Dans ce cadre\, il organise un séminaire ouvert au public et portant sur l’édition électronique et … Weitere Informationen https://calenda-formation.labocleo.org/196334
LOCATION:Orléans
END:VEVENT
BEGIN:VEVENT
DTSTART;VALUE=DATE:20090324
DTEND;VALUE=DATE:20090325
UID:196334-20090324@calenda.revues.org
SUMMARY:Publication électronique
URL:https://calenda-formation.labocleo.org/196334
DESCRIPTION:L’Institut de recherche et d’histoire des textes (http://www.irht.cnrs.fr/) a une longue tradition d’édition et de gestion électroniques de manuscrits. Dans ce cadre\, il organise un séminaire ouvert au public et portant sur l’édition électronique et … Weitere Informationen https://calenda-formation.labocleo.org/196334
LOCATION:Orléans
END:VEVENT
BEGIN:VEVENT
DTSTART;VALUE=DATE:20090421
DTEND;VALUE=DATE:20090422
UID:196334-20090421@calenda.revues.org
SUMMARY:Publication électronique
URL:https://calenda-formation.labocleo.org/196334
DESCRIPTION:L’Institut de recherche et d’histoire des textes (http://www.irht.cnrs.fr/) a une longue tradition d’édition et de gestion électroniques de manuscrits. Dans ce cadre\, il organise un séminaire ouvert au public et portant sur l’édition électronique et … Weitere Informationen https://calenda-formation.labocleo.org/196334
LOCATION:Orléans
END:VEVENT
BEGIN:VEVENT
DTSTART;VALUE=DATE:20090526
DTEND;VALUE=DATE:20090527
UID:196334-20090526@calenda.revues.org
SUMMARY:Publication électronique
URL:https://calenda-formation.labocleo.org/196334
DESCRIPTION:L’Institut de recherche et d’histoire des textes (http://www.irht.cnrs.fr/) a une longue tradition d’édition et de gestion électroniques de manuscrits. Dans ce cadre\, il organise un séminaire ouvert au public et portant sur l’édition électronique et … Weitere Informationen https://calenda-formation.labocleo.org/196334
LOCATION:Orléans
END:VEVENT
BEGIN:VEVENT
DTSTART;VALUE=DATE:20090623
DTEND;VALUE=DATE:20090624
UID:196334-20090623@calenda.revues.org
SUMMARY:Publication électronique
URL:https://calenda-formation.labocleo.org/196334
DESCRIPTION:L’Institut de recherche et d’histoire des textes (http://www.irht.cnrs.fr/) a une longue tradition d’édition et de gestion électroniques de manuscrits. Dans ce cadre\, il organise un séminaire ouvert au public et portant sur l’édition électronique et … Weitere Informationen https://calenda-formation.labocleo.org/196334
LOCATION:Orléans
END:VEVENT
END:VCALENDAR
