BEGIN:VCALENDAR
VERSION:2.0
PRODID:-//https://calenda-formation.labocleo.org
X-WR-CALNAME:Calenda
X-WR-TIMEZONE:Europe/Paris
CALSCALE:GREGORIAN
X-WR-CALDESC:The calendar for arts, humanities and social sciences
METHOD:PUBLISH
BEGIN:VEVENT
DTSTART;VALUE=DATE:20090128
DTEND;VALUE=DATE:20090129
UID:196349-20090128@calenda.revues.org
SUMMARY:Rendez-vous de crise
URL:https://calenda-formation.labocleo.org/196349
DESCRIPTION:Face à un événement aussi inexorablement installé dans la durée et qui nous réserve certainement encore bien des surprises et des épreuves\, l’EHESS vous propose de mettre à contribution la diversité des voies d’approche dont elle dispose. Il s’agit d… @plus_info https://calenda-formation.labocleo.org/196349
LOCATION:Paris
END:VEVENT
BEGIN:VEVENT
DTSTART;VALUE=DATE:20090211
DTEND;VALUE=DATE:20090212
UID:196349-20090211@calenda.revues.org
SUMMARY:Rendez-vous de crise
URL:https://calenda-formation.labocleo.org/196349
DESCRIPTION:Face à un événement aussi inexorablement installé dans la durée et qui nous réserve certainement encore bien des surprises et des épreuves\, l’EHESS vous propose de mettre à contribution la diversité des voies d’approche dont elle dispose. Il s’agit d… @plus_info https://calenda-formation.labocleo.org/196349
LOCATION:Paris
END:VEVENT
END:VCALENDAR
