BEGIN:VCALENDAR
VERSION:2.0
PRODID:-//https://calenda-formation.labocleo.org
X-WR-CALNAME:Calenda
X-WR-TIMEZONE:Europe/Paris
CALSCALE:GREGORIAN
X-WR-CALDESC:The calendar for arts, humanities and social sciences
METHOD:PUBLISH
BEGIN:VEVENT
DTSTART;VALUE=DATE:20090130
DTEND;VALUE=DATE:20090131
UID:196350-20090130@calenda.revues.org
SUMMARY:Un siècle de présence indienne en France
URL:https://calenda-formation.labocleo.org/196350
DESCRIPTION:Pour commencer l'année 2009\, la revue Hommes & Migrations\, revue de sciences sociales éditée par la Cité nationale de l'histoire de l'immigration\, dans le cadre de ses rendez-vous réguliers à l'auditorium de la Cité\, consacre un week-end à la présenc… @plus_info https://calenda-formation.labocleo.org/196350
LOCATION:Paris
END:VEVENT
BEGIN:VEVENT
DTSTART;VALUE=DATE:20090131
DTEND;VALUE=DATE:20090201
UID:196350-20090131@calenda.revues.org
SUMMARY:Un siècle de présence indienne en France
URL:https://calenda-formation.labocleo.org/196350
DESCRIPTION:Pour commencer l'année 2009\, la revue Hommes & Migrations\, revue de sciences sociales éditée par la Cité nationale de l'histoire de l'immigration\, dans le cadre de ses rendez-vous réguliers à l'auditorium de la Cité\, consacre un week-end à la présenc… @plus_info https://calenda-formation.labocleo.org/196350
LOCATION:Paris
END:VEVENT
END:VCALENDAR
