BEGIN:VCALENDAR
VERSION:2.0
PRODID:-//https://calenda-formation.labocleo.org
X-WR-CALNAME:Calenda
X-WR-TIMEZONE:Europe/Paris
CALSCALE:GREGORIAN
X-WR-CALDESC:Le calendrier des lettres et sciences humaines et sociales
METHOD:PUBLISH
BEGIN:VEVENT
DTSTART;VALUE=DATE:20090320
DTEND;VALUE=DATE:20090321
UID:196377-20090320@calenda.revues.org
SUMMARY:Sciences\, technologies et savoirs en sociétés. Enjeux actuels\, questions historiques
URL:https://calenda-formation.labocleo.org/196377
DESCRIPTION:L'appel à projets de l'ANR  « Sciences\, techniques et savoirs en sociétés » est publié\, et est très ouvert - aux philosophes\, juristes\, économistes\, historiens\, politistes\, sociologues\, anthropologues ou psychologues de toutes les périodes et de tout… @plus_info https://calenda-formation.labocleo.org/196377
LOCATION:Paris
END:VEVENT
END:VCALENDAR
