BEGIN:VCALENDAR
VERSION:2.0
PRODID:-//https://calenda-formation.labocleo.org
X-WR-CALNAME:Calenda
X-WR-TIMEZONE:Europe/Paris
CALSCALE:GREGORIAN
X-WR-CALDESC:Le calendrier des lettres et sciences humaines et sociales
METHOD:PUBLISH
BEGIN:VEVENT
DTSTART;VALUE=DATE:20090127
DTEND;VALUE=DATE:20090128
UID:196386-20090127@calenda.revues.org
SUMMARY:Conflit et identités
URL:https://calenda-formation.labocleo.org/196386
DESCRIPTION:Conférences grand public de la Maison des Sciences de l'Homme Paris Nord. Attention : nouveau lieu\, nouveaux horaires : Les conférences ont lieu de 18h30 à 20h30 à la médiathèque Don Quichotte\, 120 avenue Wilson à La Plaine Saint-Denis.… @plus_info https://calenda-formation.labocleo.org/196386
LOCATION:Saint-Denis
END:VEVENT
BEGIN:VEVENT
DTSTART;VALUE=DATE:20090310
DTEND;VALUE=DATE:20090311
UID:196386-20090310@calenda.revues.org
SUMMARY:Conflit et identités
URL:https://calenda-formation.labocleo.org/196386
DESCRIPTION:Conférences grand public de la Maison des Sciences de l'Homme Paris Nord. Attention : nouveau lieu\, nouveaux horaires : Les conférences ont lieu de 18h30 à 20h30 à la médiathèque Don Quichotte\, 120 avenue Wilson à La Plaine Saint-Denis.… @plus_info https://calenda-formation.labocleo.org/196386
LOCATION:Saint-Denis
END:VEVENT
BEGIN:VEVENT
DTSTART;VALUE=DATE:20090407
DTEND;VALUE=DATE:20090408
UID:196386-20090407@calenda.revues.org
SUMMARY:Conflit et identités
URL:https://calenda-formation.labocleo.org/196386
DESCRIPTION:Conférences grand public de la Maison des Sciences de l'Homme Paris Nord. Attention : nouveau lieu\, nouveaux horaires : Les conférences ont lieu de 18h30 à 20h30 à la médiathèque Don Quichotte\, 120 avenue Wilson à La Plaine Saint-Denis.… @plus_info https://calenda-formation.labocleo.org/196386
LOCATION:Saint-Denis
END:VEVENT
BEGIN:VEVENT
DTSTART;VALUE=DATE:20090602
DTEND;VALUE=DATE:20090603
UID:196386-20090602@calenda.revues.org
SUMMARY:Conflit et identités
URL:https://calenda-formation.labocleo.org/196386
DESCRIPTION:Conférences grand public de la Maison des Sciences de l'Homme Paris Nord. Attention : nouveau lieu\, nouveaux horaires : Les conférences ont lieu de 18h30 à 20h30 à la médiathèque Don Quichotte\, 120 avenue Wilson à La Plaine Saint-Denis.… @plus_info https://calenda-formation.labocleo.org/196386
LOCATION:Saint-Denis
END:VEVENT
END:VCALENDAR
