BEGIN:VCALENDAR
VERSION:2.0
PRODID:-//https://calenda-formation.labocleo.org
X-WR-CALNAME:Calenda
X-WR-TIMEZONE:Europe/Paris
CALSCALE:GREGORIAN
X-WR-CALDESC:The calendar for arts, humanities and social sciences
METHOD:PUBLISH
BEGIN:VEVENT
DTSTART;VALUE=DATE:20090119
DTEND;VALUE=DATE:20090120
UID:196394-20090119@calenda.revues.org
SUMMARY:Archives et sources du communisme. Regards croisés : chercheurs\, acteurs et archivistes
URL:https://calenda-formation.labocleo.org/196394
DESCRIPTION:Ce séminaire se propose de reconsidérer le rapport des chercheurs\, des acteurs et des archivistes au regard du triptyque idéal « collecte des archives - traitement archivistique des documents - exploitation scientifique » du matériau. Comprendre quel… @plus_info https://calenda-formation.labocleo.org/196394
LOCATION:Bobigny
END:VEVENT
BEGIN:VEVENT
DTSTART;VALUE=DATE:20090209
DTEND;VALUE=DATE:20090210
UID:196394-20090209@calenda.revues.org
SUMMARY:Archives et sources du communisme. Regards croisés : chercheurs\, acteurs et archivistes
URL:https://calenda-formation.labocleo.org/196394
DESCRIPTION:Ce séminaire se propose de reconsidérer le rapport des chercheurs\, des acteurs et des archivistes au regard du triptyque idéal « collecte des archives - traitement archivistique des documents - exploitation scientifique » du matériau. Comprendre quel… @plus_info https://calenda-formation.labocleo.org/196394
LOCATION:Bobigny
END:VEVENT
BEGIN:VEVENT
DTSTART;VALUE=DATE:20090330
DTEND;VALUE=DATE:20090331
UID:196394-20090330@calenda.revues.org
SUMMARY:Archives et sources du communisme. Regards croisés : chercheurs\, acteurs et archivistes
URL:https://calenda-formation.labocleo.org/196394
DESCRIPTION:Ce séminaire se propose de reconsidérer le rapport des chercheurs\, des acteurs et des archivistes au regard du triptyque idéal « collecte des archives - traitement archivistique des documents - exploitation scientifique » du matériau. Comprendre quel… @plus_info https://calenda-formation.labocleo.org/196394
LOCATION:Bobigny
END:VEVENT
BEGIN:VEVENT
DTSTART;VALUE=DATE:20090511
DTEND;VALUE=DATE:20090512
UID:196394-20090511@calenda.revues.org
SUMMARY:Archives et sources du communisme. Regards croisés : chercheurs\, acteurs et archivistes
URL:https://calenda-formation.labocleo.org/196394
DESCRIPTION:Ce séminaire se propose de reconsidérer le rapport des chercheurs\, des acteurs et des archivistes au regard du triptyque idéal « collecte des archives - traitement archivistique des documents - exploitation scientifique » du matériau. Comprendre quel… @plus_info https://calenda-formation.labocleo.org/196394
LOCATION:Bobigny
END:VEVENT
BEGIN:VEVENT
DTSTART;VALUE=DATE:20090608
DTEND;VALUE=DATE:20090609
UID:196394-20090608@calenda.revues.org
SUMMARY:Archives et sources du communisme. Regards croisés : chercheurs\, acteurs et archivistes
URL:https://calenda-formation.labocleo.org/196394
DESCRIPTION:Ce séminaire se propose de reconsidérer le rapport des chercheurs\, des acteurs et des archivistes au regard du triptyque idéal « collecte des archives - traitement archivistique des documents - exploitation scientifique » du matériau. Comprendre quel… @plus_info https://calenda-formation.labocleo.org/196394
LOCATION:Bobigny
END:VEVENT
END:VCALENDAR
