BEGIN:VCALENDAR
VERSION:2.0
PRODID:-//https://calenda-formation.labocleo.org
X-WR-CALNAME:Calenda
X-WR-TIMEZONE:Europe/Paris
CALSCALE:GREGORIAN
X-WR-CALDESC:Le calendrier des lettres et sciences humaines et sociales
METHOD:PUBLISH
BEGIN:VEVENT
DTSTART;VALUE=DATE:20090323
DTEND;VALUE=DATE:20090324
UID:196397-20090323@calenda.revues.org
SUMMARY:« Pour la suite du monde » : développement durable ou décroissance soutenable ?
URL:https://calenda-formation.labocleo.org/196397
DESCRIPTION:Comment faire face aux graves difficultés environnementales\, économiques et sociales qui menacent le modèle de société occidental ? Faut-il viser un « développement durable »\, en cherchant à concilier croissance économique\, progrès social et préserva… @plus_info https://calenda-formation.labocleo.org/196397
LOCATION:Montréal
END:VEVENT
END:VCALENDAR
