BEGIN:VCALENDAR
VERSION:2.0
PRODID:-//https://calenda-formation.labocleo.org
X-WR-CALNAME:Calenda
X-WR-TIMEZONE:Europe/Paris
CALSCALE:GREGORIAN
X-WR-CALDESC:The calendar for arts, humanities and social sciences
METHOD:PUBLISH
BEGIN:VEVENT
DTSTART;VALUE=DATE:20090430
DTEND;VALUE=DATE:20090501
UID:196402-20090430@calenda.revues.org
SUMMARY:Migrations\, christianisme et constructions identitaires (XIXe-XXe siècles) 
URL:https://calenda-formation.labocleo.org/196402
DESCRIPTION:Au cours des dernières décennies\, le foisonnement des nouveaux regards portés sur les migrations a suscité un renouvellement considérable dans la manière d'envisager la question. De ce point de vue\, les interrogations relatives aux interactions entre… @plus_info https://calenda-formation.labocleo.org/196402
LOCATION:Louvain-la-Neuve
END:VEVENT
END:VCALENDAR
