BEGIN:VCALENDAR
VERSION:2.0
PRODID:-//https://calenda-formation.labocleo.org
X-WR-CALNAME:Calenda
X-WR-TIMEZONE:Europe/Paris
CALSCALE:GREGORIAN
X-WR-CALDESC:Le calendrier des lettres et sciences humaines et sociales
METHOD:PUBLISH
BEGIN:VEVENT
DTSTART;VALUE=DATE:20090126
DTEND;VALUE=DATE:20090127
UID:196404-20090126@calenda.revues.org
SUMMARY:Musique et réformes religieuses aux XVIe et XVIIe siècles : statuts\, fonctions\, pratiques
URL:https://calenda-formation.labocleo.org/196404
DESCRIPTION:À l’occasion d’une des nouvelles questions au programme de la session 2009 de l’agrégation de musique\, l’équipe Patrimoines et langages musicaux organise deux journées d’étude sur le thème des statuts\, des fonctions et des pratiques de la musique rel… Weitere Informationen https://calenda-formation.labocleo.org/196404
LOCATION:Paris
END:VEVENT
BEGIN:VEVENT
DTSTART;VALUE=DATE:20090127
DTEND;VALUE=DATE:20090128
UID:196404-20090127@calenda.revues.org
SUMMARY:Musique et réformes religieuses aux XVIe et XVIIe siècles : statuts\, fonctions\, pratiques
URL:https://calenda-formation.labocleo.org/196404
DESCRIPTION:À l’occasion d’une des nouvelles questions au programme de la session 2009 de l’agrégation de musique\, l’équipe Patrimoines et langages musicaux organise deux journées d’étude sur le thème des statuts\, des fonctions et des pratiques de la musique rel… Weitere Informationen https://calenda-formation.labocleo.org/196404
LOCATION:Paris
END:VEVENT
END:VCALENDAR
