BEGIN:VCALENDAR
VERSION:2.0
PRODID:-//https://calenda-formation.labocleo.org
X-WR-CALNAME:Calenda
X-WR-TIMEZONE:Europe/Paris
CALSCALE:GREGORIAN
X-WR-CALDESC:The calendar for arts, humanities and social sciences
METHOD:PUBLISH
BEGIN:VEVENT
DTSTART;VALUE=DATE:20090306
DTEND;VALUE=DATE:20090307
UID:196605-20090306@calenda.revues.org
SUMMARY:« Chose numérique » et espace public
URL:https://calenda-formation.labocleo.org/196605
DESCRIPTION:Dans le cadre du séminaire 2008-2010 du Lames\, une journée d'étude est organisée autour du thème : « Chose numérique » et espace public. … @plus_info https://calenda-formation.labocleo.org/196605
LOCATION:Aix-en-Provence
END:VEVENT
END:VCALENDAR
