BEGIN:VCALENDAR
VERSION:2.0
PRODID:-//https://calenda-formation.labocleo.org
X-WR-CALNAME:Calenda
X-WR-TIMEZONE:Europe/Paris
CALSCALE:GREGORIAN
X-WR-CALDESC:The calendar for arts, humanities and social sciences
METHOD:PUBLISH
BEGIN:VEVENT
DTSTART;VALUE=DATE:20090618
DTEND;VALUE=DATE:20090619
UID:196649-20090618@calenda.revues.org
SUMMARY:Les inventions de la musique au Moyen Âge
URL:https://calenda-formation.labocleo.org/196649
DESCRIPTION:L’atelier propose de réunir des historiens\, des historiens de l’art\, de la littérature et des musicologues médiévistes à la croisée de deux problématiques axées sur les notions de « musique » et « d’invention » appliquée à la musique au et du Moyen Â… @plus_info https://calenda-formation.labocleo.org/196649
LOCATION:Auxerre
END:VEVENT
BEGIN:VEVENT
DTSTART;VALUE=DATE:20090617
DTEND;VALUE=DATE:20090618
UID:196649-20090617@calenda.revues.org
SUMMARY:Les inventions de la musique au Moyen Âge
URL:https://calenda-formation.labocleo.org/196649
DESCRIPTION:L’atelier propose de réunir des historiens\, des historiens de l’art\, de la littérature et des musicologues médiévistes à la croisée de deux problématiques axées sur les notions de « musique » et « d’invention » appliquée à la musique au et du Moyen Â… @plus_info https://calenda-formation.labocleo.org/196649
LOCATION:Auxerre
END:VEVENT
BEGIN:VEVENT
DTSTART;VALUE=DATE:20090619
DTEND;VALUE=DATE:20090620
UID:196649-20090619@calenda.revues.org
SUMMARY:Les inventions de la musique au Moyen Âge
URL:https://calenda-formation.labocleo.org/196649
DESCRIPTION:L’atelier propose de réunir des historiens\, des historiens de l’art\, de la littérature et des musicologues médiévistes à la croisée de deux problématiques axées sur les notions de « musique » et « d’invention » appliquée à la musique au et du Moyen Â… @plus_info https://calenda-formation.labocleo.org/196649
LOCATION:Auxerre
END:VEVENT
END:VCALENDAR
