BEGIN:VCALENDAR
VERSION:2.0
PRODID:-//https://calenda-formation.labocleo.org
X-WR-CALNAME:Calenda
X-WR-TIMEZONE:Europe/Paris
CALSCALE:GREGORIAN
X-WR-CALDESC:Le calendrier des lettres et sciences humaines et sociales
METHOD:PUBLISH
BEGIN:VEVENT
DTSTART;VALUE=DATE:20090318
DTEND;VALUE=DATE:20090319
UID:196704-20090318@calenda.revues.org
SUMMARY:Mobilisations collectives et altermondialisme(s) en Méditerranée et ailleurs
URL:https://calenda-formation.labocleo.org/196704
DESCRIPTION:Conférence-débat organisée par Cultures & Conflits et le Centre d’analyse et d’intervention sociologiques (CADIS). … Weitere Informationen https://calenda-formation.labocleo.org/196704
LOCATION:Paris
END:VEVENT
END:VCALENDAR
