BEGIN:VCALENDAR
VERSION:2.0
PRODID:-//https://calenda-formation.labocleo.org
X-WR-CALNAME:Calenda
X-WR-TIMEZONE:Europe/Paris
CALSCALE:GREGORIAN
X-WR-CALDESC:Le calendrier des lettres et sciences humaines et sociales
METHOD:PUBLISH
BEGIN:VEVENT
DTSTART;VALUE=DATE:20090311
DTEND;VALUE=DATE:20090312
UID:196708-20090311@calenda.revues.org
SUMMARY:L'islam et l'Occident à l'époque médiévale : transmission et diffusion des savoirs
URL:https://calenda-formation.labocleo.org/196708
DESCRIPTION:Les 11\, 12 et 13 mars 2009\, les laboratoires Triangle (UMR 5206)\, CERPHI (UMR 537) et Ciham (UMR 5648) organisent un colloque international à l’ENS-LSH (Lyon) conçu comme un moment de débat scientifique et d’échanges sur les enjeux sociaux de l’écrit… Más informaciones https://calenda-formation.labocleo.org/196708
LOCATION:Lyon
END:VEVENT
BEGIN:VEVENT
DTSTART;VALUE=DATE:20090312
DTEND;VALUE=DATE:20090313
UID:196708-20090312@calenda.revues.org
SUMMARY:L'islam et l'Occident à l'époque médiévale : transmission et diffusion des savoirs
URL:https://calenda-formation.labocleo.org/196708
DESCRIPTION:Les 11\, 12 et 13 mars 2009\, les laboratoires Triangle (UMR 5206)\, CERPHI (UMR 537) et Ciham (UMR 5648) organisent un colloque international à l’ENS-LSH (Lyon) conçu comme un moment de débat scientifique et d’échanges sur les enjeux sociaux de l’écrit… Más informaciones https://calenda-formation.labocleo.org/196708
LOCATION:Lyon
END:VEVENT
BEGIN:VEVENT
DTSTART;VALUE=DATE:20090313
DTEND;VALUE=DATE:20090314
UID:196708-20090313@calenda.revues.org
SUMMARY:L'islam et l'Occident à l'époque médiévale : transmission et diffusion des savoirs
URL:https://calenda-formation.labocleo.org/196708
DESCRIPTION:Les 11\, 12 et 13 mars 2009\, les laboratoires Triangle (UMR 5206)\, CERPHI (UMR 537) et Ciham (UMR 5648) organisent un colloque international à l’ENS-LSH (Lyon) conçu comme un moment de débat scientifique et d’échanges sur les enjeux sociaux de l’écrit… Más informaciones https://calenda-formation.labocleo.org/196708
LOCATION:Lyon
END:VEVENT
END:VCALENDAR
