BEGIN:VCALENDAR
VERSION:2.0
PRODID:-//https://calenda-formation.labocleo.org
X-WR-CALNAME:Calenda
X-WR-TIMEZONE:Europe/Paris
CALSCALE:GREGORIAN
X-WR-CALDESC:The calendar for arts, humanities and social sciences
METHOD:PUBLISH
BEGIN:VEVENT
DTSTART;VALUE=DATE:20090520
DTEND;VALUE=DATE:20090521
UID:196728-20090520@calenda.revues.org
SUMMARY:Commerce et ville ou commerce sans la ville ? 
URL:https://calenda-formation.labocleo.org/196728
DESCRIPTION:Un colloque intitulé « Commerce et ville ou commerce sans la ville ? Entre logiques entrepreneuriales et politiques territoriales de développement durable » sera organisé les 19 et 20 novembre 2009 par le Département de géographie-aménagement de l’un… @plus_info https://calenda-formation.labocleo.org/196728
LOCATION:Le Mans
END:VEVENT
END:VCALENDAR
