BEGIN:VCALENDAR
VERSION:2.0
PRODID:-//https://calenda-formation.labocleo.org
X-WR-CALNAME:Calenda
X-WR-TIMEZONE:Europe/Paris
CALSCALE:GREGORIAN
X-WR-CALDESC:Le calendrier des lettres et sciences humaines et sociales
METHOD:PUBLISH
BEGIN:VEVENT
DTSTART;VALUE=DATE:20090406
DTEND;VALUE=DATE:20090407
UID:196742-20090406@calenda.revues.org
SUMMARY:Si la science m'était contée\, paroles de scientifiques. L'espace : décryptages
URL:https://calenda-formation.labocleo.org/196742
DESCRIPTION:Plusieurs strates se superposent et s’imbriquent dans les motivations\, les présentations et les lectures qui sont faites des activités spatiales. L'aventure récente de la « conquête de l'Espace » a été motivée par des objectifs multiples et a suscité… @plus_info https://calenda-formation.labocleo.org/196742
LOCATION:Paris
END:VEVENT
BEGIN:VEVENT
DTSTART;VALUE=DATE:20090504
DTEND;VALUE=DATE:20090505
UID:196742-20090504@calenda.revues.org
SUMMARY:Si la science m'était contée\, paroles de scientifiques. L'espace : décryptages
URL:https://calenda-formation.labocleo.org/196742
DESCRIPTION:Plusieurs strates se superposent et s’imbriquent dans les motivations\, les présentations et les lectures qui sont faites des activités spatiales. L'aventure récente de la « conquête de l'Espace » a été motivée par des objectifs multiples et a suscité… @plus_info https://calenda-formation.labocleo.org/196742
LOCATION:Paris
END:VEVENT
BEGIN:VEVENT
DTSTART;VALUE=DATE:20090608
DTEND;VALUE=DATE:20090609
UID:196742-20090608@calenda.revues.org
SUMMARY:Si la science m'était contée\, paroles de scientifiques. L'espace : décryptages
URL:https://calenda-formation.labocleo.org/196742
DESCRIPTION:Plusieurs strates se superposent et s’imbriquent dans les motivations\, les présentations et les lectures qui sont faites des activités spatiales. L'aventure récente de la « conquête de l'Espace » a été motivée par des objectifs multiples et a suscité… @plus_info https://calenda-formation.labocleo.org/196742
LOCATION:Paris
END:VEVENT
END:VCALENDAR
