BEGIN:VCALENDAR
VERSION:2.0
PRODID:-//https://calenda-formation.labocleo.org
X-WR-CALNAME:Calenda
X-WR-TIMEZONE:Europe/Paris
CALSCALE:GREGORIAN
X-WR-CALDESC:The calendar for arts, humanities and social sciences
METHOD:PUBLISH
BEGIN:VEVENT
DTSTART;VALUE=DATE:20090402
DTEND;VALUE=DATE:20090403
UID:196747-20090402@calenda.revues.org
SUMMARY:L'âge du Bronze dans l'Ouest de la France : nouvelles approches\, nouvelles données
URL:https://calenda-formation.labocleo.org/196747
DESCRIPTION:Ce séminaire archéologique de l'Ouest (coordonnée par S. Blanchet et C. Marcigny\, Inrap et UMR 6566-CReAAH) est consacré aux nouvelles données archéologiques acquises ces dernières années sur l'âge du Bronze de l'Ouest de la France. A cette occasion … @plus_info https://calenda-formation.labocleo.org/196747
LOCATION:Rennes
END:VEVENT
END:VCALENDAR
