BEGIN:VCALENDAR
VERSION:2.0
PRODID:-//https://calenda-formation.labocleo.org
X-WR-CALNAME:Calenda
X-WR-TIMEZONE:Europe/Paris
CALSCALE:GREGORIAN
X-WR-CALDESC:O calendário de letras e de ciências sociais e humanas
METHOD:PUBLISH
BEGIN:VEVENT
DTSTART;VALUE=DATE:20090513
DTEND;VALUE=DATE:20090514
UID:196761-20090513@calenda.revues.org
SUMMARY:Châteaux et fortifications en Normandie
URL:https://calenda-formation.labocleo.org/196761
DESCRIPTION:Le colloque de Caen\, en 1980\, avait\, sur le plan européen\, fait l’inventaire des questions posées par l’étude des châteaux et proposé des pistes de recherche. L’objectif de ce colloque est de faire le bilan des études conduites depuis en Normandie. I… @plus_info https://calenda-formation.labocleo.org/196761
LOCATION:Mont-Saint-Aignan
END:VEVENT
BEGIN:VEVENT
DTSTART;VALUE=DATE:20090514
DTEND;VALUE=DATE:20090515
UID:196761-20090514@calenda.revues.org
SUMMARY:Châteaux et fortifications en Normandie
URL:https://calenda-formation.labocleo.org/196761
DESCRIPTION:Le colloque de Caen\, en 1980\, avait\, sur le plan européen\, fait l’inventaire des questions posées par l’étude des châteaux et proposé des pistes de recherche. L’objectif de ce colloque est de faire le bilan des études conduites depuis en Normandie. I… @plus_info https://calenda-formation.labocleo.org/196761
LOCATION:Mont-Saint-Aignan
END:VEVENT
BEGIN:VEVENT
DTSTART;VALUE=DATE:20090515
DTEND;VALUE=DATE:20090516
UID:196761-20090515@calenda.revues.org
SUMMARY:Châteaux et fortifications en Normandie
URL:https://calenda-formation.labocleo.org/196761
DESCRIPTION:Le colloque de Caen\, en 1980\, avait\, sur le plan européen\, fait l’inventaire des questions posées par l’étude des châteaux et proposé des pistes de recherche. L’objectif de ce colloque est de faire le bilan des études conduites depuis en Normandie. I… @plus_info https://calenda-formation.labocleo.org/196761
LOCATION:Mont-Saint-Aignan
END:VEVENT
END:VCALENDAR
