BEGIN:VCALENDAR
VERSION:2.0
PRODID:-//https://calenda-formation.labocleo.org
X-WR-CALNAME:Calenda
X-WR-TIMEZONE:Europe/Paris
CALSCALE:GREGORIAN
X-WR-CALDESC:The calendar for arts, humanities and social sciences
METHOD:PUBLISH
BEGIN:VEVENT
DTSTART;VALUE=DATE:20090403
DTEND;VALUE=DATE:20090404
UID:196782-20090403@calenda.revues.org
SUMMARY:Mineurs et responsabilité(s)
URL:https://calenda-formation.labocleo.org/196782
DESCRIPTION:Dans le cadre de son vingtième anniversaire\, le Centre universitaire d'Agen organise un colloque sur le sujet « Mineurs et responsabilité(s) »\, le vendredi 3 avril 2009 à 9h30.… @plus_info https://calenda-formation.labocleo.org/196782
LOCATION:Copenhagen
END:VEVENT
END:VCALENDAR
