BEGIN:VCALENDAR
VERSION:2.0
PRODID:-//https://calenda-formation.labocleo.org
X-WR-CALNAME:Calenda
X-WR-TIMEZONE:Europe/Paris
CALSCALE:GREGORIAN
X-WR-CALDESC:The calendar for arts, humanities and social sciences
METHOD:PUBLISH
BEGIN:VEVENT
DTSTART;VALUE=DATE:20090409
DTEND;VALUE=DATE:20090410
UID:196815-20090409@calenda.revues.org
SUMMARY:L'économie territoriale aujourd'hui : quels enjeux pour quelles échelles territoriales ?
URL:https://calenda-formation.labocleo.org/196815
DESCRIPTION:Le CERTU\, en collaboration avec la CCI de Lyon\, organise une rencontre débat autour des apports de l'expertise et de la pratique du développement économique local. La crise économique et financière affecte durement les territoires mais en même temps … @plus_info https://calenda-formation.labocleo.org/196815
LOCATION:Lyon
END:VEVENT
END:VCALENDAR
