BEGIN:VCALENDAR
VERSION:2.0
PRODID:-//https://calenda-formation.labocleo.org
X-WR-CALNAME:Calenda
X-WR-TIMEZONE:Europe/Paris
CALSCALE:GREGORIAN
X-WR-CALDESC:The calendar for arts, humanities and social sciences
METHOD:PUBLISH
BEGIN:VEVENT
DTSTART;VALUE=DATE:20091105
DTEND;VALUE=DATE:20091106
UID:196821-20091105@calenda.revues.org
SUMMARY:Santé\, activité et vieillissement
URL:https://calenda-formation.labocleo.org/196821
DESCRIPTION:Le Collège des économistes de la santé\, en partenariat avec la Fondation Caisses d’épargne pour la solidarité et la CNSA\, organise un cycle de six conférences autour de la thématique « économie de la santé et vieillissement ». La quatrième conférence… @plus_info https://calenda-formation.labocleo.org/196821
LOCATION:Paris
END:VEVENT
END:VCALENDAR
