BEGIN:VCALENDAR
VERSION:2.0
PRODID:-//https://calenda-formation.labocleo.org
X-WR-CALNAME:Calenda
X-WR-TIMEZONE:Europe/Paris
CALSCALE:GREGORIAN
X-WR-CALDESC:The calendar for arts, humanities and social sciences
METHOD:PUBLISH
BEGIN:VEVENT
DTSTART;VALUE=DATE:20091001
DTEND;VALUE=DATE:20091002
UID:196852-20091001@calenda.revues.org
SUMMARY:Robert Boulin en politique
URL:https://calenda-formation.labocleo.org/196852
DESCRIPTION:Le nom de Robert Boulin ne saurait demeurer dans l’Histoire que pour sa mort brutale le 30 octobre 1979 dans des circonstances jamais complètement expliquées\, même si la justice et la plupart de ses amis ont retenu la thèse du suicide.  Né en 1920\, R… @plus_info https://calenda-formation.labocleo.org/196852
LOCATION:Libourne
END:VEVENT
BEGIN:VEVENT
DTSTART;VALUE=DATE:20091002
DTEND;VALUE=DATE:20091003
UID:196852-20091002@calenda.revues.org
SUMMARY:Robert Boulin en politique
URL:https://calenda-formation.labocleo.org/196852
DESCRIPTION:Le nom de Robert Boulin ne saurait demeurer dans l’Histoire que pour sa mort brutale le 30 octobre 1979 dans des circonstances jamais complètement expliquées\, même si la justice et la plupart de ses amis ont retenu la thèse du suicide.  Né en 1920\, R… @plus_info https://calenda-formation.labocleo.org/196852
LOCATION:Libourne
END:VEVENT
BEGIN:VEVENT
DTSTART;VALUE=DATE:20091003
DTEND;VALUE=DATE:20091004
UID:196852-20091003@calenda.revues.org
SUMMARY:Robert Boulin en politique
URL:https://calenda-formation.labocleo.org/196852
DESCRIPTION:Le nom de Robert Boulin ne saurait demeurer dans l’Histoire que pour sa mort brutale le 30 octobre 1979 dans des circonstances jamais complètement expliquées\, même si la justice et la plupart de ses amis ont retenu la thèse du suicide.  Né en 1920\, R… @plus_info https://calenda-formation.labocleo.org/196852
LOCATION:Libourne
END:VEVENT
END:VCALENDAR
